BEGIN:VCALENDAR
VERSION:2.0
PRODID:-//Kompetenz Netzwerk - ECPv6.15.18//NONSGML v1.0//EN
CALSCALE:GREGORIAN
METHOD:PUBLISH
X-WR-CALNAME:Kompetenz Netzwerk
X-ORIGINAL-URL:https://kompetenz-netzwerk.at
X-WR-CALDESC:Veranstaltungen für Kompetenz Netzwerk
REFRESH-INTERVAL;VALUE=DURATION:PT1H
X-Robots-Tag:noindex
X-PUBLISHED-TTL:PT1H
BEGIN:VTIMEZONE
TZID:Europe/Vienna
BEGIN:DAYLIGHT
TZOFFSETFROM:+0100
TZOFFSETTO:+0200
TZNAME:CEST
DTSTART:20250330T010000
END:DAYLIGHT
BEGIN:STANDARD
TZOFFSETFROM:+0200
TZOFFSETTO:+0100
TZNAME:CET
DTSTART:20251026T010000
END:STANDARD
BEGIN:DAYLIGHT
TZOFFSETFROM:+0100
TZOFFSETTO:+0200
TZNAME:CEST
DTSTART:20260329T010000
END:DAYLIGHT
BEGIN:STANDARD
TZOFFSETFROM:+0200
TZOFFSETTO:+0100
TZNAME:CET
DTSTART:20261025T010000
END:STANDARD
BEGIN:DAYLIGHT
TZOFFSETFROM:+0100
TZOFFSETTO:+0200
TZNAME:CEST
DTSTART:20270328T010000
END:DAYLIGHT
BEGIN:STANDARD
TZOFFSETFROM:+0200
TZOFFSETTO:+0100
TZNAME:CET
DTSTART:20271031T010000
END:STANDARD
END:VTIMEZONE
BEGIN:VEVENT
DTSTART;TZID=Europe/Vienna:20260422T190000
DTEND;TZID=Europe/Vienna:20260422T213000
DTSTAMP:20260419T230023
CREATED:20240603T113000Z
LAST-MODIFIED:20260203T112850Z
UID:10001577-1776884400-1776893400@kompetenz-netzwerk.at
SUMMARY:Business Abend - Firmenroas - Innviertel
DESCRIPTION:
URL:https://kompetenz-netzwerk.at/termine/business-abend-firmenroas-innviertel/2026-04-22/
LOCATION:Oberösterreich
CATEGORIES:Business Abend - Firmenroas Innviertel,Business Abend Innviertel
ATTACH;FMTTYPE=image/jpeg:https://kompetenz-netzwerk.at/wp-content/uploads/2025/06/Kompetenznetzwerk_LOGO_VA_500x500-e1764065875230.jpg
ORGANIZER;CN="Kompetenz Netzwerk - Innviertel":MAILTO:innviertel@kompetenz-netzwerk.at
END:VEVENT
END:VCALENDAR